BEGIN:VCALENDAR
VERSION:2.0
PRODID:-//jEvents 2.0 for Joomla//EN
CALSCALE:GREGORIAN
METHOD:PUBLISH
BEGIN:VTIMEZONE
TZID:Europe/Zurich
BEGIN:STANDARD
DTSTART:20241106T190000
RDATE:20250330T030000
TZOFFSETFROM:+0200
TZOFFSETTO:+0100
TZNAME:Europe/Zurich CET
END:STANDARD
BEGIN:STANDARD
DTSTART:20251026T020000
RDATE:20260329T030000
TZOFFSETFROM:+0200
TZOFFSETTO:+0100
TZNAME:Europe/Zurich CET
END:STANDARD
BEGIN:STANDARD
DTSTART:20261025T020000
RDATE:20270328T030000
TZOFFSETFROM:+0200
TZOFFSETTO:+0100
TZNAME:Europe/Zurich CET
END:STANDARD
BEGIN:STANDARD
DTSTART:20271031T020000
RDATE:20280326T030000
TZOFFSETFROM:+0200
TZOFFSETTO:+0100
TZNAME:Europe/Zurich CET
END:STANDARD
BEGIN:STANDARD
DTSTART:20281029T020000
RDATE:20290325T030000
TZOFFSETFROM:+0200
TZOFFSETTO:+0100
TZNAME:Europe/Zurich CET
END:STANDARD
BEGIN:STANDARD
DTSTART:20291028T020000
RDATE:20300331T030000
TZOFFSETFROM:+0200
TZOFFSETTO:+0100
TZNAME:Europe/Zurich CET
END:STANDARD
BEGIN:STANDARD
DTSTART:20301027T020000
RDATE:20310330T030000
TZOFFSETFROM:+0200
TZOFFSETTO:+0100
TZNAME:Europe/Zurich CET
END:STANDARD
BEGIN:STANDARD
DTSTART:20311026T020000
RDATE:20320328T030000
TZOFFSETFROM:+0200
TZOFFSETTO:+0100
TZNAME:Europe/Zurich CET
END:STANDARD
BEGIN:DAYLIGHT
DTSTART:20250330T030000
RDATE:20251026T020000
TZOFFSETFROM:+0100
TZOFFSETTO:+0200
TZNAME:Europe/Zurich CEST
END:DAYLIGHT
BEGIN:DAYLIGHT
DTSTART:20260329T030000
RDATE:20261025T020000
TZOFFSETFROM:+0100
TZOFFSETTO:+0200
TZNAME:Europe/Zurich CEST
END:DAYLIGHT
BEGIN:DAYLIGHT
DTSTART:20270328T030000
RDATE:20271031T020000
TZOFFSETFROM:+0100
TZOFFSETTO:+0200
TZNAME:Europe/Zurich CEST
END:DAYLIGHT
BEGIN:DAYLIGHT
DTSTART:20280326T030000
RDATE:20281029T020000
TZOFFSETFROM:+0100
TZOFFSETTO:+0200
TZNAME:Europe/Zurich CEST
END:DAYLIGHT
BEGIN:DAYLIGHT
DTSTART:20290325T030000
RDATE:20291028T020000
TZOFFSETFROM:+0100
TZOFFSETTO:+0200
TZNAME:Europe/Zurich CEST
END:DAYLIGHT
BEGIN:DAYLIGHT
DTSTART:20300331T030000
RDATE:20301027T020000
TZOFFSETFROM:+0100
TZOFFSETTO:+0200
TZNAME:Europe/Zurich CEST
END:DAYLIGHT
BEGIN:DAYLIGHT
DTSTART:20310330T030000
RDATE:20311026T020000
TZOFFSETFROM:+0100
TZOFFSETTO:+0200
TZNAME:Europe/Zurich CEST
END:DAYLIGHT
END:VTIMEZONE
BEGIN:VEVENT
UID:e25804a9628f2ceb0f5f17a591483cb1
CATEGORIES:Termin öffentlich
CREATED:20250704T132042
SUMMARY:Benefizessen
LOCATION:: Gemeindehaus
DESCRIPTION:Bei unserem Benefizessen wird es wieder ein feines vegetarisches 4-Gänge-Me
 nü geben. Mit dem Erlös möchten wir diesmal das Kinderdorf Mbingu in Tansan
 ia unterstützen. Dort erhalten 70 Waisenkinder eine umfassende Betreuung mi
 t Unterkunft, Nahrung, schulischer Bildung und Gesundheitsversorgung. \n
X-ALT-DESC;FMTTYPE=text/html:<p><span style="color: rgb(0, 0, 0);"><span style="font-size: 9pt; font-fam
 ily: 'Verdana', sans-serif;">Bei unserem Benefizessen wird es wieder ein <s
 pan style="font-size: 9pt; font-family: 'Verdana', sans-serif;">feines vege
 tarisches 4-Gänge-Menü</span><span style="font-size: 9pt; font-family: 'Ver
 dana', sans-serif;"> </span></span><span style="font-size: 9pt; font-family
 : 'Verdana', sans-serif;">geben. Mit dem Erlös möchten wir diesmal das <spa
 n style="font-size: 9pt; font-family: 'Verdana', sans-serif;">Kinderdorf Mb
 ingu in Tansania</span><span style="font-size: 9pt; font-family: 'Verdana',
  sans-serif;"> </span></span><span style="font-size: 9pt; font-family: 'Ver
 dana', sans-serif;">unterstützen. Dort erhalten 70 Waisenkinder eine umfass
 ende Betreuung mit Unterkunft, Nahrung, schulischer Bildung und Gesundheits
 versorgung. </span></span></p>
X-EXTRAINFO: 
DTSTAMP:20260424T133627
DTSTART;TZID=Europe/Zurich:20251107T190000
SEQUENCE:0
TRANSP:OPAQUE
END:VEVENT
END:VCALENDAR