BEGIN:VCALENDAR
VERSION:2.0
PRODID:-//jEvents 2.0 for Joomla//EN
CALSCALE:GREGORIAN
METHOD:PUBLISH
BEGIN:VTIMEZONE
TZID:Europe/Zurich
BEGIN:STANDARD
DTSTART:20241129T120000
RDATE:20250330T030000
TZOFFSETFROM:+0200
TZOFFSETTO:+0100
TZNAME:Europe/Zurich CET
END:STANDARD
BEGIN:STANDARD
DTSTART:20251026T020000
RDATE:20260329T030000
TZOFFSETFROM:+0200
TZOFFSETTO:+0100
TZNAME:Europe/Zurich CET
END:STANDARD
BEGIN:STANDARD
DTSTART:20261025T020000
RDATE:20270328T030000
TZOFFSETFROM:+0200
TZOFFSETTO:+0100
TZNAME:Europe/Zurich CET
END:STANDARD
BEGIN:STANDARD
DTSTART:20271031T020000
RDATE:20280326T030000
TZOFFSETFROM:+0200
TZOFFSETTO:+0100
TZNAME:Europe/Zurich CET
END:STANDARD
BEGIN:STANDARD
DTSTART:20281029T020000
RDATE:20290325T030000
TZOFFSETFROM:+0200
TZOFFSETTO:+0100
TZNAME:Europe/Zurich CET
END:STANDARD
BEGIN:STANDARD
DTSTART:20291028T020000
RDATE:20300331T030000
TZOFFSETFROM:+0200
TZOFFSETTO:+0100
TZNAME:Europe/Zurich CET
END:STANDARD
BEGIN:STANDARD
DTSTART:20301027T020000
RDATE:20310330T030000
TZOFFSETFROM:+0200
TZOFFSETTO:+0100
TZNAME:Europe/Zurich CET
END:STANDARD
BEGIN:STANDARD
DTSTART:20311026T020000
RDATE:20320328T030000
TZOFFSETFROM:+0200
TZOFFSETTO:+0100
TZNAME:Europe/Zurich CET
END:STANDARD
BEGIN:DAYLIGHT
DTSTART:20250330T030000
RDATE:20251026T020000
TZOFFSETFROM:+0100
TZOFFSETTO:+0200
TZNAME:Europe/Zurich CEST
END:DAYLIGHT
BEGIN:DAYLIGHT
DTSTART:20260329T030000
RDATE:20261025T020000
TZOFFSETFROM:+0100
TZOFFSETTO:+0200
TZNAME:Europe/Zurich CEST
END:DAYLIGHT
BEGIN:DAYLIGHT
DTSTART:20270328T030000
RDATE:20271031T020000
TZOFFSETFROM:+0100
TZOFFSETTO:+0200
TZNAME:Europe/Zurich CEST
END:DAYLIGHT
BEGIN:DAYLIGHT
DTSTART:20280326T030000
RDATE:20281029T020000
TZOFFSETFROM:+0100
TZOFFSETTO:+0200
TZNAME:Europe/Zurich CEST
END:DAYLIGHT
BEGIN:DAYLIGHT
DTSTART:20290325T030000
RDATE:20291028T020000
TZOFFSETFROM:+0100
TZOFFSETTO:+0200
TZNAME:Europe/Zurich CEST
END:DAYLIGHT
BEGIN:DAYLIGHT
DTSTART:20300331T030000
RDATE:20301027T020000
TZOFFSETFROM:+0100
TZOFFSETTO:+0200
TZNAME:Europe/Zurich CEST
END:DAYLIGHT
BEGIN:DAYLIGHT
DTSTART:20310330T030000
RDATE:20311026T020000
TZOFFSETFROM:+0100
TZOFFSETTO:+0200
TZNAME:Europe/Zurich CEST
END:DAYLIGHT
END:VTIMEZONE
BEGIN:VEVENT
UID:f03113c357b3858874de67fb3bafb999
CATEGORIES:Termin öffentlich
CREATED:20250704T132833
SUMMARY:Orgelführung
LOCATION:: Kartäuserkirche
DESCRIPTION:Die Orgel der Kartäuserkirche ist eine 1994 von Bernhardt H. Edskes (Wohlen
 ) erstellte Kopie der Arp Schnitger-Orgel von 1694, die ursprüglich im Hamb
 urger Waisenhaus war und aktuell in Grasberg bei Bremen ist. Auf ihr lässt 
 sich die barocke und speziell auch norddeutsche Orgelliteratur originalgetr
 eu darstellen. Im Rahmen dieser Führung wird Stefan Beltinger die Orgel näh
 er vorstellen. \n
X-ALT-DESC;FMTTYPE=text/html:<p><span style="color: rgb(0, 0, 0);"><span style="font-size: 9pt; font-fam
 ily: 'Verdana', sans-serif;">Die Orgel der Kartäuserkirche ist eine 1994 vo
 n Bernhardt H. Edskes (Wohlen) erstellte </span><span style="font-size: 9pt
 ; font-family: 'Verdana', sans-serif;"><span style="-ms-text-size-adjust: 1
 00%;">Kopie der Arp Schnitger-Orgel</span></span><span style="font-size: 9p
 t; font-family: 'Verdana', sans-serif;"> </span><span style="font-size: 9pt
 ; font-family: 'Verdana', sans-serif;">von 1694, die ursprüglich im Hamburg
 er Waisenhaus war und aktuell in Grasberg bei Bremen ist. Auf ihr lässt sic
 h die barocke und speziell auch norddeutsche Orgelliteratur originalgetreu 
 darstellen. Im Rahmen dieser Führung wird </span><span style="font-size: 9p
 t; font-family: 'Verdana', sans-serif;"><span style="-ms-text-size-adjust: 
 100%;">Stefan Beltinger die Orgel näher vorstellen</span></span><span style
 ="font-size: 9pt; font-family: 'Verdana', sans-serif;">. </span></span></p>
X-EXTRAINFO: 
DTSTAMP:20260424T133205
DTSTART;TZID=Europe/Zurich:20251130T120000
SEQUENCE:0
TRANSP:OPAQUE
END:VEVENT
END:VCALENDAR