BEGIN:VCALENDAR
VERSION:2.0
PRODID:-//jEvents 2.0 for Joomla//EN
CALSCALE:GREGORIAN
METHOD:PUBLISH
BEGIN:VTIMEZONE
TZID:Europe/Zurich
BEGIN:STANDARD
DTSTART:20311101T150000
RDATE:20320328T030000
TZOFFSETFROM:+0200
TZOFFSETTO:+0100
TZNAME:Europe/Zurich CET
END:STANDARD
END:VTIMEZONE
BEGIN:VEVENT
UID:a25def7d0b0bf29a8f7db7ad8d94f1ce
CATEGORIES:Termin öffentlich
CREATED:20250119T172756
SUMMARY:Kaffeetreff
LOCATION:Gemeindehaus
DESCRIPTION:
X-EXTRAINFO: 
DTSTAMP:20260425T191837
DTSTART;TZID=Europe/Zurich:20321101T150000
SEQUENCE:0
TRANSP:OPAQUE
END:VEVENT
END:VCALENDAR