BEGIN:VCALENDAR
VERSION:2.0
PRODID:-//jEvents 2.0 for Joomla//EN
CALSCALE:GREGORIAN
METHOD:PUBLISH
BEGIN:VTIMEZONE
TZID:Europe/Zurich
BEGIN:STANDARD
DTSTART:20311107T100000
RDATE:20320328T030000
TZOFFSETFROM:+0200
TZOFFSETTO:+0100
TZNAME:Europe/Zurich CET
END:STANDARD
END:VTIMEZONE
BEGIN:VEVENT
UID:4dea8bf26458b3e0a44300825c7b7ad7
CATEGORIES:Termin öffentlich
CREATED:20251031T134458
SUMMARY:Gottesdienst mit Abendmahl, Pfrn. Janina Glienicke - gleichzeitig: Kindergottesdienst
LOCATION:: Kartäuserkirche
DESCRIPTION:
X-EXTRAINFO: 
DTSTAMP:20260425T194002
DTSTART;TZID=Europe/Zurich:20321107T100000
SEQUENCE:0
TRANSP:OPAQUE
END:VEVENT
END:VCALENDAR