BEGIN:VCALENDAR
VERSION:2.0
PRODID:-//jEvents 2.0 for Joomla//EN
CALSCALE:GREGORIAN
METHOD:PUBLISH
BEGIN:VTIMEZONE
TZID:Europe/Zurich
BEGIN:STANDARD
DTSTART:20311102T193000
RDATE:20320328T030000
TZOFFSETFROM:+0200
TZOFFSETTO:+0100
TZNAME:Europe/Zurich CET
END:STANDARD
END:VTIMEZONE
BEGIN:VEVENT
UID:a66de609068f5f5d9f7387347181b2e2
CATEGORIES:Termin öffentlich
CREATED:20250119T172756
SUMMARY:Chor
LOCATION:: Gemeindehaus
DESCRIPTION:
X-EXTRAINFO: 
DTSTAMP:20260425T192118
DTSTART;TZID=Europe/Zurich:20321102T193000
SEQUENCE:0
TRANSP:OPAQUE
END:VEVENT
END:VCALENDAR